BEGIN:VCALENDAR
VERSION:2.0
PRODID:-//Marie-Seebach-Stiftung Weimar - ECPv6.15.16//NONSGML v1.0//EN
CALSCALE:GREGORIAN
METHOD:PUBLISH
X-WR-CALNAME:Marie-Seebach-Stiftung Weimar
X-ORIGINAL-URL:https://www.marie-seebach-stiftung.de
X-WR-CALDESC:Veranstaltungen für Marie-Seebach-Stiftung Weimar
REFRESH-INTERVAL;VALUE=DURATION:PT1H
X-Robots-Tag:noindex
X-PUBLISHED-TTL:PT1H
BEGIN:VTIMEZONE
TZID:Europe/Berlin
BEGIN:DAYLIGHT
TZOFFSETFROM:+0100
TZOFFSETTO:+0200
TZNAME:CEST
DTSTART:20250330T010000
END:DAYLIGHT
BEGIN:STANDARD
TZOFFSETFROM:+0200
TZOFFSETTO:+0100
TZNAME:CET
DTSTART:20251026T010000
END:STANDARD
BEGIN:DAYLIGHT
TZOFFSETFROM:+0100
TZOFFSETTO:+0200
TZNAME:CEST
DTSTART:20260329T010000
END:DAYLIGHT
BEGIN:STANDARD
TZOFFSETFROM:+0200
TZOFFSETTO:+0100
TZNAME:CET
DTSTART:20261025T010000
END:STANDARD
BEGIN:DAYLIGHT
TZOFFSETFROM:+0100
TZOFFSETTO:+0200
TZNAME:CEST
DTSTART:20270328T010000
END:DAYLIGHT
BEGIN:STANDARD
TZOFFSETFROM:+0200
TZOFFSETTO:+0100
TZNAME:CET
DTSTART:20271031T010000
END:STANDARD
END:VTIMEZONE
BEGIN:VEVENT
DTSTART;TZID=Europe/Berlin:20260417T160000
DTEND;TZID=Europe/Berlin:20260417T170000
DTSTAMP:20260421T173640
CREATED:20260413T082627Z
LAST-MODIFIED:20260416T142446Z
UID:129846-1776441600-1776445200@www.marie-seebach-stiftung.de
SUMMARY:„Vier Hände – ein Klang“ - Klaviermusik zu vier Händen
DESCRIPTION:Anne Hoff und Sebastian Krahnert holen das besondere Genre „aus dem Wohnzimmer auf die Bühne“ des Forum Seebach: Freuen Sie sich auf Werke für Klavier zu vier Händen von Johann Sebastian Bach\, Robert Schumann\, George Bizet und Maurice Ravel \nDer Eintritt ist wie immer frei\, Spenden für die Kulturarbeit des Forum Seebach sind willkommen. Vielen Dank!
URL:https://www.marie-seebach-stiftung.de/veranstaltung/vier-haende-ein-klang-klaviermusik-zu-vier-haenden/
CATEGORIES:Konzert
END:VEVENT
BEGIN:VEVENT
DTSTART;TZID=Europe/Berlin:20260415T160000
DTEND;TZID=Europe/Berlin:20260415T170000
DTSTAMP:20260421T173640
CREATED:20260327T113334Z
LAST-MODIFIED:20260331T144758Z
UID:129825-1776268800-1776272400@www.marie-seebach-stiftung.de
SUMMARY:„Das Lächeln am Fuße der Leiter“ – eine Novelle von Henry Miller
DESCRIPTION:Monika Woytowicz liest aus der Novelle und wird von Ursula Dehler am Saxophon begleitet.
URL:https://www.marie-seebach-stiftung.de/veranstaltung/das-laecheln-am-fusse-der-leiter-eine-novelle-von-henry-miller/
LOCATION:FORUM SEEBACH\, Tiefurter Allee 8\, Weimar\, 99425\, Deutschland
CATEGORIES:Lesung
END:VEVENT
BEGIN:VEVENT
DTSTART;TZID=Europe/Berlin:20260413T153000
DTEND;TZID=Europe/Berlin:20260413T170000
DTSTAMP:20260421T173640
CREATED:20260327T112227Z
LAST-MODIFIED:20260327T120248Z
UID:129822-1776094200-1776099600@www.marie-seebach-stiftung.de
SUMMARY:Film bei Seebachs: „Paddington“ (Teil 1)
DESCRIPTION:90 min\, Großbritannien/Frankreich/USA\, 2014 \nDarsteller: Tim Downie\, Nicole Kidman\, Peter Capaldi\, Sally Hawkins\, Julie Walters \nAltersempfehlung: von 9 – 99!\n\n\n\nDa er eine Schwäche für alles Britische hat\, nimmt der ebenso tollpatschige wie liebenswerte Bär Paddington die Reise aus dem „finstersten Peru“ bis nach London auf sich. Als er sich aber mutterseelenallein an der U-Bahn-Station Paddington wiederfindet\, wird ihm bewusst\, dass das Stadtleben doch nicht so ist\, wie er es sich vorgestellt hat. Doch zum Glück findet ihn die Familie Brown und bietet ihm ein neues Zuhause an. Es scheint\, als hätte sich sein Schicksal zum Guten gewendet – wäre da nicht eine zwielichtige Tierpräparatorin\, die es auf den seltenen Bären abgesehen hat. \n  \nBild: Paddington – Trailer\, Kritik\, Bilder und Infos zum Film
URL:https://www.marie-seebach-stiftung.de/veranstaltung/film-bei-seebachs-paddington-teil-1/
LOCATION:FORUM SEEBACH\, Tiefurter Allee 8\, Weimar\, 99425\, Deutschland
CATEGORIES:Film
ATTACH;FMTTYPE=image/webp:https://www.marie-seebach-stiftung.de/wp-content/uploads/2026/03/OIP-1.webp
END:VEVENT
BEGIN:VEVENT
DTSTART;TZID=Europe/Berlin:20260412T160000
DTEND;TZID=Europe/Berlin:20260412T170000
DTSTAMP:20260421T173640
CREATED:20260327T111358Z
LAST-MODIFIED:20260327T111413Z
UID:129820-1776009600-1776013200@www.marie-seebach-stiftung.de
SUMMARY:Perspektiven: Lesung mit Krunoslav Šebrek
DESCRIPTION:Wer bin ich – und wer entscheidet darüber? \nMit dem Roman „Die schöne Frau Seidenmann“ lädt die Lesereihe Perspektiven am 12. April um 16 Uhr in die Marie-Seebach-Stiftung zu einer bewegenden literarischen Begegnung ein. \nIm Mittelpunkt des Romans steht Irma Seidenmann\, die sich im Warschau der Jahre 1943 bis 1968 nach dem Tod ihres Mannes eine neue Identität aneignet\, um die Zeit des Nationalsozialismus zu überleben. Ihre Geschichte führt mitten hinein in Fragen von Vertrauen\, Mut und Verrat – und immer wieder zu der existenziellen Suche nach Zugehörigkeit:Wer bin ich? Wem kann ich trauen? Und welchen Anspruch haben andere auf meine Identität? \nGeschrieben wurde der Roman von Andrej Szczypiorski\, der 1928 in Warschau geboren wurde. Als Jugendlicher beteiligte er sich am Warschauer Aufstand und wurde anschließend im KZ Sachsenhausen interniert. Aufgrund politischer Repressionen in Polen erschien das Buch zunächst in den 1980er-Jahren in Paris\, bevor es 1988 im Diogenes Verlag auch in Deutschland veröffentlicht wurde. \nGelesen wird erneut von Krunoslav Šebrek und Elke Wieditz\, die der Lesereihe mit ihren eindrucksvollen Interpretationen eine besondere Atmosphäre verleihen. Zwischen den Passagen bleibt – wie immer bei Perspektiven – Raum für Gespräch und Austausch mit dem Publikum. \nDie Lesereihe lebt von einer starken Zusammenarbeit: Wir freuen uns über die bewährte Kooperation zwischen der Marie-Seebach-Stiftung und der KVHS Weimarer Land\, die diese literarischen Begegnungen gemeinsam möglich machen.
URL:https://www.marie-seebach-stiftung.de/veranstaltung/perspektiven-lesung-mit-krunoslav-sebrek/
LOCATION:FORUM SEEBACH\, Tiefurter Allee 8\, Weimar\, 99425\, Deutschland
CATEGORIES:Lesung
END:VEVENT
BEGIN:VEVENT
DTSTART;TZID=Europe/Berlin:20260405T103000
DTEND;TZID=Europe/Berlin:20260405T113000
DTSTAMP:20260421T173640
CREATED:20260327T110943Z
LAST-MODIFIED:20260331T144627Z
UID:129818-1775385000-1775388600@www.marie-seebach-stiftung.de
SUMMARY:Musikalischer Oster-Gottesdienst
DESCRIPTION:Mit Pfarrer Axel Kramme\, einem Bläserquartett unter der Leitung von Georg Bölk (Tuba) und einem Streichtrio: Jeannina Gutiérrez (Violine)\, Louise Denis Nesprias (Viola) und Daniel Gutiérrez (Violoncello).
URL:https://www.marie-seebach-stiftung.de/veranstaltung/musikalischer-oster-gottesdienst/
LOCATION:FORUM SEEBACH\, Tiefurter Allee 8\, Weimar\, 99425\, Deutschland
CATEGORIES:Gottesdienst
END:VEVENT
BEGIN:VEVENT
DTSTART;TZID=Europe/Berlin:20260326T160000
DTEND;TZID=Europe/Berlin:20260326T170000
DTSTAMP:20260421T173640
CREATED:20260302T124311Z
LAST-MODIFIED:20260302T124311Z
UID:129695-1774540800-1774544400@www.marie-seebach-stiftung.de
SUMMARY:Evangelischer Gesprächskreis
DESCRIPTION:Mit Pfarrer Hayner
URL:https://www.marie-seebach-stiftung.de/veranstaltung/evangelischer-gespraechskreis-16/
LOCATION:FORUM SEEBACH\, Tiefurter Allee 8\, Weimar\, 99425\, Deutschland
CATEGORIES:Gottesdienst
END:VEVENT
BEGIN:VEVENT
DTSTART;TZID=Europe/Berlin:20260319T160000
DTEND;TZID=Europe/Berlin:20260319T170000
DTSTAMP:20260421T173640
CREATED:20260302T124033Z
LAST-MODIFIED:20260302T124033Z
UID:129693-1773936000-1773939600@www.marie-seebach-stiftung.de
SUMMARY:Violine und Violoncello im Konzert
DESCRIPTION:Schüler:innen der Musikhochschule FRANZ LISZT Weimar präsentieren Stücke von Telemann\, Bach\, Mozart\, Ysaÿe\, Borodin und Schulze auf Violine und Violoncello.
URL:https://www.marie-seebach-stiftung.de/veranstaltung/violine-und-violoncello-im-konzert/
LOCATION:FORUM SEEBACH\, Tiefurter Allee 8\, Weimar\, 99425\, Deutschland
CATEGORIES:Konzert
END:VEVENT
BEGIN:VEVENT
DTSTART;TZID=Europe/Berlin:20260317T160000
DTEND;TZID=Europe/Berlin:20260317T170000
DTSTAMP:20260421T173640
CREATED:20260302T123602Z
LAST-MODIFIED:20260302T123642Z
UID:129691-1773763200-1773766800@www.marie-seebach-stiftung.de
SUMMARY:Frühlingskonzert mit Solo- und Kammermusik
DESCRIPTION:Kammermusik-Beiträge der Violinklasse Christin Blumenstein sind eine Generalprobe für den Landeswettbewerb Jugend Musiziert am darauffolgenden Wochenende.
URL:https://www.marie-seebach-stiftung.de/veranstaltung/fruehlingskonzert-mit-solo-und-kammermusik/
LOCATION:FORUM SEEBACH\, Tiefurter Allee 8\, Weimar\, 99425\, Deutschland
CATEGORIES:Konzert
END:VEVENT
BEGIN:VEVENT
DTSTART;TZID=Europe/Berlin:20260315T160000
DTEND;TZID=Europe/Berlin:20260315T170000
DTSTAMP:20260421T173640
CREATED:20260302T123243Z
LAST-MODIFIED:20260302T123243Z
UID:129689-1773590400-1773594000@www.marie-seebach-stiftung.de
SUMMARY:„Und auf einmal steht es neben dir: die 13 Monate.“ – Eine musikalische Lesung
DESCRIPTION:Joachim Ringelnatz und Erich Kästner waren Zeitgenossen\, sind einander aber nie begegnet. Johannes Göbel und Martin Mock holen dies in einer virtuellen Begegnung dieser beiden Dichter nach. Biografie\, Drama\, Humor\, Melancholie und Esprit verbinden sich in einem eleganten „pas de deux“ der beiden Protagonisten zu einem ergreifenden Zeitbild des letzten Jahrhunderts.
URL:https://www.marie-seebach-stiftung.de/veranstaltung/und-auf-einmal-steht-es-neben-dir-die-13-monate-eine-musikalische-lesung/
LOCATION:FORUM SEEBACH\, Tiefurter Allee 8\, Weimar\, 99425\, Deutschland
CATEGORIES:Lesung
END:VEVENT
BEGIN:VEVENT
DTSTART;TZID=Europe/Berlin:20260306T160000
DTEND;TZID=Europe/Berlin:20260306T170000
DTSTAMP:20260421T173640
CREATED:20260302T122107Z
LAST-MODIFIED:20260302T122809Z
UID:129687-1772812800-1772816400@www.marie-seebach-stiftung.de
SUMMARY:Gesang im Konzert
DESCRIPTION:Xiaoyu Dou\, Studentin der Hochschule für Musik FRANZ LISZT\, Klasse Prof. Marietta Zumbült\, singt ihr Lied-Wettbewerbs-Programm.
URL:https://www.marie-seebach-stiftung.de/veranstaltung/gesang-im-konzert-17/
LOCATION:FORUM SEEBACH\, Tiefurter Allee 8\, Weimar\, 99425\, Deutschland
CATEGORIES:Konzert
END:VEVENT
BEGIN:VEVENT
DTSTART;TZID=Europe/Berlin:20260305T103000
DTEND;TZID=Europe/Berlin:20260305T113000
DTSTAMP:20260421T173640
CREATED:20260302T121548Z
LAST-MODIFIED:20260302T121548Z
UID:129685-1772706600-1772710200@www.marie-seebach-stiftung.de
SUMMARY:Evangelischer Gottesdienst
DESCRIPTION:Mit Pfarrer Hayner
URL:https://www.marie-seebach-stiftung.de/veranstaltung/evangelischer-gottesdienst-20/
LOCATION:FORUM SEEBACH\, Tiefurter Allee 8\, Weimar\, 99425\, Deutschland
CATEGORIES:Gottesdienst
END:VEVENT
BEGIN:VEVENT
DTSTART;TZID=Europe/Berlin:20260302T153000
DTEND;TZID=Europe/Berlin:20260302T170000
DTSTAMP:20260421T173640
CREATED:20260302T121237Z
LAST-MODIFIED:20260302T121237Z
UID:129682-1772465400-1772470800@www.marie-seebach-stiftung.de
SUMMARY:Film bei Seebachs
DESCRIPTION:„Das Arvo Pärt Gefühl“ \n(That Pärt Feeling – The Universe of Arvo Pärt) von Paul Hegeman \nNiederlande\, 2019\, 75 Minuten \nEnglisch\, deutsch\, niederländisch\, französisches Original mit deutschen Untertiteln \n  \nArvo Pärt\, der berühmteste lebende Komponist unserer Zeit\, gilt als so etwas wie ein Einsiedler. \nBei der Arbeit scheint er jedoch das genaue Gegenteil zu sein\, denn er verbindet seine unglaubliche Sensibilität mit Humor und Energie. Seine intensive Zusammenarbeit mit dem Cello-Oktett Amsterdam bildet das Herzstück dieses Dokumentarfilms\, der ein helles Licht auf das Universum von Pärt wirft. Ein Universum\, das nicht nur klassische Musiker wie Tõnu Kaljuste\, Candida Thompson oder Daniel Reuss fasziniert\, sondern auch Choreographen wie Jiří Kylián\, Filmemacher wie Alain Gomis und junge Technomusiker wie Kara-Lis Coverdale. \nSie alle sind auf der Suche nach dem Pärt-Gefühl\, nach dem was Arvo Pärts Musik so einzigartig macht.
URL:https://www.marie-seebach-stiftung.de/veranstaltung/film-bei-seebachs/
LOCATION:FORUM SEEBACH\, Tiefurter Allee 8\, Weimar\, 99425\, Deutschland
CATEGORIES:Film
ATTACH;FMTTYPE=image/webp:https://www.marie-seebach-stiftung.de/wp-content/uploads/2026/03/OIP.webp
END:VEVENT
BEGIN:VEVENT
DTSTART;TZID=Europe/Berlin:20260228T160000
DTEND;TZID=Europe/Berlin:20260228T170000
DTSTAMP:20260421T173640
CREATED:20260119T105410Z
LAST-MODIFIED:20260119T105410Z
UID:129612-1772294400-1772298000@www.marie-seebach-stiftung.de
SUMMARY:Winterkonzert des Allegro Musikinstituts Jena
DESCRIPTION:Die Schüler*innen des Allegro Musikinstituts Jena präsentieren Werke\, die sie in den vergangenen Wochen und Monaten erarbeitet haben. Es erklingen Stücke aus verschiedenen Epochen und Stilrichtungen – von Klassik bis Moderne – auf Instrumenten wie Klavier\, Gitarre\, Flöte sowie Gesang.
URL:https://www.marie-seebach-stiftung.de/veranstaltung/winterkonzert-des-allegro-musikinstituts-jena/
LOCATION:FORUM SEEBACH\, Tiefurter Allee 8\, Weimar\, 99425\, Deutschland
CATEGORIES:Konzert
END:VEVENT
BEGIN:VEVENT
DTSTART;TZID=Europe/Berlin:20260226T160000
DTEND;TZID=Europe/Berlin:20260226T170000
DTSTAMP:20260421T173640
CREATED:20260130T150733Z
LAST-MODIFIED:20260219T104851Z
UID:129669-1772121600-1772125200@www.marie-seebach-stiftung.de
SUMMARY:Zugesagt !!! Evangelischer Gesprächskreis
DESCRIPTION:Mit Pfarrer Ulrich Hayner
URL:https://www.marie-seebach-stiftung.de/veranstaltung/evangelischer-gespraechskreis-15/
LOCATION:FORUM SEEBACH\, Tiefurter Allee 8\, Weimar\, 99425\, Deutschland
END:VEVENT
BEGIN:VEVENT
DTSTART;TZID=Europe/Berlin:20260225T100000
DTEND;TZID=Europe/Berlin:20260225T140000
DTSTAMP:20260421T173640
CREATED:20260130T150255Z
LAST-MODIFIED:20260130T150255Z
UID:129667-1772013600-1772028000@www.marie-seebach-stiftung.de
SUMMARY:Eröffnung der Wanderausstellung „Gut essen im Alter“
DESCRIPTION:Am Mittwoch\, 25. Februar 2026\, wird in der Marie-Seebach-Stiftung Weimar die neue Wanderausstellung „Gut Essen im Alter“ feierlich eröffnet. Zwischen 10:00 und 13:00 Uhr erwartet Sie ein erster Einblick in die Ausstellung\, die ab Frühjahr 2026 Seniorinnen und Senioren sowie deren Angehörige über gesunde Ernährung und besondere Bedürfnisse im höheren Lebensalter informiert. \nDie Ausstellung bietet u. a. sechs Themenbanner\, ein Begleitheft mit Hörfassung sowie ein barrierearmes Konzept für Menschen mit Seh- oder Mobilitätseinschränkungen. Entwickelt wurde sie von der Vernetzungsstelle Seniorenernährung Thüringen und der Landesvereinigung für Gesundheitsförderung Thüringen e.V. –AGETHUR-.
URL:https://www.marie-seebach-stiftung.de/veranstaltung/eroeffnung-der-wanderausstellung-gut-essen-im-alter/
LOCATION:FORUM SEEBACH\, Tiefurter Allee 8\, Weimar\, 99425\, Deutschland
CATEGORIES:Ausstellung
END:VEVENT
BEGIN:VEVENT
DTSTART;TZID=Europe/Berlin:20260215T160000
DTEND;TZID=Europe/Berlin:20260215T170000
DTSTAMP:20260421T173640
CREATED:20260119T105316Z
LAST-MODIFIED:20260119T105316Z
UID:129610-1771171200-1771174800@www.marie-seebach-stiftung.de
SUMMARY:Gitarrenklänge aus Ost und West – von Renaissance bis Moderne
DESCRIPTION:Das Konzert wird gestaltet von vier Gitarrenstudierenden der Hochschule für Musik Franz Liszt Weimar: Veronica Eres (USA)\, Philipp Lang (Deutschland)\, Manuel Macías Benavides (Chile) und Vladimir Petkov (Bulgarien)\, die kurz vor ihren Abschlussprüfungen im Bachelor- bzw. Masterstudium stehen. Das abwechslungsreiche Programm führt das Publikum von mediterranen Klangwelten Spaniens bis hin zu Meisterwerken der Renaissance und des Barocks.
URL:https://www.marie-seebach-stiftung.de/veranstaltung/gitarrenklaenge-aus-ost-und-west-von-renaissance-bis-moderne/
LOCATION:FORUM SEEBACH\, Tiefurter Allee 8\, Weimar\, 99425\, Deutschland
CATEGORIES:Konzert
END:VEVENT
BEGIN:VEVENT
DTSTART;TZID=Europe/Berlin:20260213T160000
DTEND;TZID=Europe/Berlin:20260213T170000
DTSTAMP:20260421T173640
CREATED:20260130T145812Z
LAST-MODIFIED:20260130T145907Z
UID:129665-1770998400-1771002000@www.marie-seebach-stiftung.de
SUMMARY:Klavier im Konzert
DESCRIPTION:Hochschule für Musik FRANZ LISZT Weimar\, Klasse Prof. Christian Wilm Müller.
URL:https://www.marie-seebach-stiftung.de/veranstaltung/klavier-im-konzert-54/
LOCATION:FORUM SEEBACH\, Tiefurter Allee 8\, Weimar\, 99425\, Deutschland
CATEGORIES:Konzert
END:VEVENT
BEGIN:VEVENT
DTSTART;TZID=Europe/Berlin:20260211T160000
DTEND;TZID=Europe/Berlin:20260211T170000
DTSTAMP:20260421T173640
CREATED:20260119T105228Z
LAST-MODIFIED:20260119T105228Z
UID:129608-1770825600-1770829200@www.marie-seebach-stiftung.de
SUMMARY:Oboe im Konzert
DESCRIPTION:Hochschule für Musik FRANZ LISZT Weimar\, Klasse Prof. Matthias Bäcker.
URL:https://www.marie-seebach-stiftung.de/veranstaltung/oboe-im-konzert-2/
LOCATION:FORUM SEEBACH\, Tiefurter Allee 8\, Weimar\, 99425\, Deutschland
CATEGORIES:Konzert
END:VEVENT
BEGIN:VEVENT
DTSTART;TZID=Europe/Berlin:20260210T160000
DTEND;TZID=Europe/Berlin:20260210T170000
DTSTAMP:20260421T173640
CREATED:20260119T105124Z
LAST-MODIFIED:20260130T145500Z
UID:129606-1770739200-1770742800@www.marie-seebach-stiftung.de
SUMMARY:Tage der Kammermusik
DESCRIPTION:Studierende der Hochschule für Musik FRANZ LISZT Weimar präsentieren Kammermusik in unterschiedlichen Besetzungen. Das Forum Seebach ist einer von mehreren Veranstaltungsorten der Tage der Kammermusik\, die die Hochschule für Musik in jedem Semester veranstaltet.
URL:https://www.marie-seebach-stiftung.de/veranstaltung/tage-der-kammermusik-10/
LOCATION:FORUM SEEBACH\, Tiefurter Allee 8\, Weimar\, 99425\, Deutschland
CATEGORIES:Konzert
END:VEVENT
BEGIN:VEVENT
DTSTART;TZID=Europe/Berlin:20260209T160000
DTEND;TZID=Europe/Berlin:20260209T170000
DTSTAMP:20260421T173640
CREATED:20260119T104912Z
LAST-MODIFIED:20260119T104912Z
UID:129604-1770652800-1770656400@www.marie-seebach-stiftung.de
SUMMARY:Flöte im Konzert
DESCRIPTION:Hochschule für Musik FRANZ LISZT Weimar\, Klasse Magdalena Bogner.
URL:https://www.marie-seebach-stiftung.de/veranstaltung/floete-im-konzert-20/
LOCATION:FORUM SEEBACH\, Tiefurter Allee 8\, Weimar\, 99425\, Deutschland
CATEGORIES:Konzert
END:VEVENT
BEGIN:VEVENT
DTSTART;TZID=Europe/Berlin:20260206T160000
DTEND;TZID=Europe/Berlin:20260206T170000
DTSTAMP:20260421T173640
CREATED:20260119T104812Z
LAST-MODIFIED:20260119T104812Z
UID:129602-1770393600-1770397200@www.marie-seebach-stiftung.de
SUMMARY:Klavier im Konzert
DESCRIPTION:Hochschule für Musik FRANZ LISZT Weimar\, Klasse Prof.  Christian Wilm Müller.
URL:https://www.marie-seebach-stiftung.de/veranstaltung/klavier-im-konzert-52/
LOCATION:FORUM SEEBACH\, Tiefurter Allee 8\, Weimar\, 99425\, Deutschland
CATEGORIES:Konzert
END:VEVENT
BEGIN:VEVENT
DTSTART;TZID=Europe/Berlin:20260205T160000
DTEND;TZID=Europe/Berlin:20260205T170000
DTSTAMP:20260421T173640
CREATED:20260119T104107Z
LAST-MODIFIED:20260130T145411Z
UID:129600-1770307200-1770310800@www.marie-seebach-stiftung.de
SUMMARY:Tage der Kammermusik
DESCRIPTION:Studierende der Hochschule für Musik FRANZ LISZT Weimar präsentieren Kammermusik in unterschiedlichen Besetzungen. Das Forum Seebach ist einer von mehreren Veranstaltungsorten der Tage der Kammermusik\, die die Hochschule für Musik in jedem Semester veranstaltet.
URL:https://www.marie-seebach-stiftung.de/veranstaltung/tage-der-kammermusik-9/
LOCATION:FORUM SEEBACH\, Tiefurter Allee 8\, Weimar\, 99425\, Deutschland
CATEGORIES:Konzert
END:VEVENT
BEGIN:VEVENT
DTSTART;TZID=Europe/Berlin:20260205T103000
DTEND;TZID=Europe/Berlin:20260205T113000
DTSTAMP:20260421T173640
CREATED:20251217T101005Z
LAST-MODIFIED:20260205T090539Z
UID:129569-1770287400-1770291000@www.marie-seebach-stiftung.de
SUMMARY:Abgesagt !!! Evangelischer Gottesdienst
DESCRIPTION:Mit Pfarrer Ulrich Hayner
URL:https://www.marie-seebach-stiftung.de/veranstaltung/evangelischer-gottesdienst-19/
LOCATION:FORUM SEEBACH\, Tiefurter Allee 8\, Weimar\, 99425\, Deutschland
CATEGORIES:Gottesdienst
END:VEVENT
BEGIN:VEVENT
DTSTART;TZID=Europe/Berlin:20260204T160000
DTEND;TZID=Europe/Berlin:20260204T170000
DTSTAMP:20260421T173640
CREATED:20260130T144940Z
LAST-MODIFIED:20260130T144940Z
UID:129659-1770220800-1770224400@www.marie-seebach-stiftung.de
SUMMARY:Sterne von Morgen
DESCRIPTION:Gesangsklasse Prof.  Michael Gehrke der Hochschule für Musik FRANZ LISZT Weimar.
URL:https://www.marie-seebach-stiftung.de/veranstaltung/sterne-von-morgen/
LOCATION:FORUM SEEBACH\, Tiefurter Allee 8\, Weimar\, 99425\, Deutschland
CATEGORIES:Konzert
END:VEVENT
BEGIN:VEVENT
DTSTART;TZID=Europe/Berlin:20260203T160000
DTEND;TZID=Europe/Berlin:20260203T170000
DTSTAMP:20260421T173640
CREATED:20260119T103914Z
LAST-MODIFIED:20260130T144550Z
UID:129597-1770134400-1770138000@www.marie-seebach-stiftung.de
SUMMARY:Von Barock bis Moderne – eine Klavierreise
DESCRIPTION:Hochschule für Musik FRANZ LISZT Weimar\, Soso Ninikelashvili. Das Klavierkonzert führt durch verschiedene musikalische Epochen – vom Barock über die Klassik und Romantik bis hin zur Moderne. Das Programm verbindet formale Klarheit\, emotionale Tiefe und virtuose Ausdruckskraft.
URL:https://www.marie-seebach-stiftung.de/veranstaltung/von-barock-bis-moderne-eine-klavierreise/
LOCATION:FORUM SEEBACH\, Tiefurter Allee 8\, Weimar\, 99425\, Deutschland
CATEGORIES:Konzert
ATTACH;FMTTYPE=image/jpeg:https://www.marie-seebach-stiftung.de/wp-content/uploads/2026/01/soso-scaled.jpg
END:VEVENT
BEGIN:VEVENT
DTSTART;TZID=Europe/Berlin:20260202T153000
DTEND;TZID=Europe/Berlin:20260202T170000
DTSTAMP:20260421T173640
CREATED:20260130T144349Z
LAST-MODIFIED:20260130T144715Z
UID:129653-1770046200-1770051600@www.marie-seebach-stiftung.de
SUMMARY:Film bei Seebachs: "Sture Böcke"
DESCRIPTION:Island\, 2015\nAltersfreigabe: FSK ab 6 freigegeben\, 89 Min.\nRegie: Grimur Hakonarson\nDarsteller: Sigurdur Sigurjonsson\, Theodor Juliusson\, Charlotte Boving\, Porleifur Einarsson\, Sveinn Olafur Gunnarsson \nIn einem abgeschiedenen Tal in Island leben Gummi und Kiddi Seite an Seite und versorgen ihre Schafe. Ihre Herden werden als die besten des Landes angesehen und die beiden Brüder wiederholt für ihre preiswürdigen Böcke ausgezeichnet – einzige Besonderheit: Die zwei haben seit 40 Jahren nicht mehr miteinander gesprochen. \nAls eine tödliche Krankheit bei Kiddis Schafen ausbricht\, ist das ganze Tal bedroht. Die Behörden entscheiden\, dass alle Schafe dieser Region getötet werden sollen. Dies würde die Bauern ihrer Existenzgrundlage berauben\, aber Gummi und Kiddi geben nicht so schnell auf\, jeder auf seine Art: Kiddi mit der Waffe und Gummi mit seinem Verstand.\nUm allerdings den Behörden gemeinsam entgegentreten zu können\, müssen die Brüder sich erst einmal zusammenraufen… \nRezensionen\n„Mit wundervoll schrägem Humor“ (Variety)\n„Wunderbar“ (programmkino.​de)
URL:https://www.marie-seebach-stiftung.de/veranstaltung/film-bei-seebachs-sture-boecke/
LOCATION:FORUM SEEBACH\, Tiefurter Allee 8\, Weimar\, 99425\, Deutschland
CATEGORIES:Film
ATTACH;FMTTYPE=image/webp:https://www.marie-seebach-stiftung.de/wp-content/uploads/2026/01/OIP.webp
END:VEVENT
BEGIN:VEVENT
DTSTART;TZID=Europe/Berlin:20260201T160000
DTEND;TZID=Europe/Berlin:20260201T170000
DTSTAMP:20260421T173640
CREATED:20260121T110745Z
LAST-MODIFIED:20260121T111421Z
UID:129645-1769961600-1769965200@www.marie-seebach-stiftung.de
SUMMARY:Konzert der Weimarer Stadtstreicher
DESCRIPTION:Die Weimarer Stadtstreicher laden zu einem fantasievollen Konzert ein\, in dem Musik lebendig wird und Bilder im Kopf entstehen. Unter der Leitung von Judith Schulik entfaltet sich ein Programm\, das zwischen leisem Schleichen\, verspielt-neckischen Momenten und schwungvollen Szenen pendelt – klangreich\, erzählerisch und mit feinem Humor. \nDie Kleinen Stadtstreicher und das Jugendorchester gestalten die Nachmittage gemeinsam und zeigen\, wie vielfältig und ausdrucksstark Streichermusik sein kann. Von sanften Pfotenklängen bis hin zu orchestraler Dynamik fangen die jungen Musikerinnen und Musiker das Wesen unserer Samtpfoten musikalisch ein.
URL:https://www.marie-seebach-stiftung.de/veranstaltung/konzert-der-weimarer-stadtstreicher-2/
LOCATION:FORUM SEEBACH\, Tiefurter Allee 8\, Weimar\, 99425\, Deutschland
CATEGORIES:Konzert
END:VEVENT
BEGIN:VEVENT
DTSTART;TZID=Europe/Berlin:20260131T150000
DTEND;TZID=Europe/Berlin:20260131T160000
DTSTAMP:20260421T173640
CREATED:20251217T100739Z
LAST-MODIFIED:20260121T111359Z
UID:129567-1769871600-1769875200@www.marie-seebach-stiftung.de
SUMMARY:Konzert der Weimarer Stadtstreicher
DESCRIPTION:Die Weimarer Stadtstreicher laden zu einem fantasievollen Konzert ein\, in dem Musik lebendig wird und Bilder im Kopf entstehen. Unter der Leitung von Judith Schulik entfaltet sich ein Programm\, das zwischen leisem Schleichen\, verspielt-neckischen Momenten und schwungvollen Szenen pendelt – klangreich\, erzählerisch und mit feinem Humor. \nDie Kleinen Stadtstreicher und das Jugendorchester gestalten die Nachmittage gemeinsam und zeigen\, wie vielfältig und ausdrucksstark Streichermusik sein kann. Von sanften Pfotenklängen bis hin zu orchestraler Dynamik fangen die jungen Musikerinnen und Musiker das Wesen unserer Samtpfoten musikalisch ein.
URL:https://www.marie-seebach-stiftung.de/veranstaltung/konzert-der-weimarer-stadtstreicher/
LOCATION:FORUM SEEBACH\, Tiefurter Allee 8\, Weimar\, 99425\, Deutschland
CATEGORIES:Konzert
END:VEVENT
BEGIN:VEVENT
DTSTART;TZID=Europe/Berlin:20260129T160000
DTEND;TZID=Europe/Berlin:20260129T170000
DTSTAMP:20260421T173640
CREATED:20251217T100620Z
LAST-MODIFIED:20251217T100620Z
UID:129565-1769702400-1769706000@www.marie-seebach-stiftung.de
SUMMARY:Evangelischer Gesprächskreis
DESCRIPTION:Mit Pfarrer Hayner.
URL:https://www.marie-seebach-stiftung.de/veranstaltung/evangelischer-gespraechskreis-14/
LOCATION:FORUM SEEBACH\, Tiefurter Allee 8\, Weimar\, 99425\, Deutschland
CATEGORIES:Gottesdienst
END:VEVENT
BEGIN:VEVENT
DTSTART;TZID=Europe/Berlin:20260128T163000
DTEND;TZID=Europe/Berlin:20260128T173000
DTSTAMP:20260421T173640
CREATED:20260128T094146Z
LAST-MODIFIED:20260128T094146Z
UID:129651-1769617800-1769621400@www.marie-seebach-stiftung.de
SUMMARY:Klavier im Konzert
DESCRIPTION:Es spielt: Tom Domani
URL:https://www.marie-seebach-stiftung.de/veranstaltung/klavier-im-konzert-53/
LOCATION:FORUM SEEBACH\, Tiefurter Allee 8\, Weimar\, 99425\, Deutschland
CATEGORIES:Konzert
END:VEVENT
END:VCALENDAR