BEGIN:VCALENDAR
VERSION:2.0
PRODID:-//Marie-Seebach-Stiftung Weimar - ECPv6.15.16//NONSGML v1.0//EN
CALSCALE:GREGORIAN
METHOD:PUBLISH
X-WR-CALNAME:Marie-Seebach-Stiftung Weimar
X-ORIGINAL-URL:https://www.marie-seebach-stiftung.de
X-WR-CALDESC:Veranstaltungen für Marie-Seebach-Stiftung Weimar
REFRESH-INTERVAL;VALUE=DURATION:PT1H
X-Robots-Tag:noindex
X-PUBLISHED-TTL:PT1H
BEGIN:VTIMEZONE
TZID:Europe/Berlin
BEGIN:DAYLIGHT
TZOFFSETFROM:+0100
TZOFFSETTO:+0200
TZNAME:CEST
DTSTART:20250330T010000
END:DAYLIGHT
BEGIN:STANDARD
TZOFFSETFROM:+0200
TZOFFSETTO:+0100
TZNAME:CET
DTSTART:20251026T010000
END:STANDARD
BEGIN:DAYLIGHT
TZOFFSETFROM:+0100
TZOFFSETTO:+0200
TZNAME:CEST
DTSTART:20260329T010000
END:DAYLIGHT
BEGIN:STANDARD
TZOFFSETFROM:+0200
TZOFFSETTO:+0100
TZNAME:CET
DTSTART:20261025T010000
END:STANDARD
BEGIN:DAYLIGHT
TZOFFSETFROM:+0100
TZOFFSETTO:+0200
TZNAME:CEST
DTSTART:20270328T010000
END:DAYLIGHT
BEGIN:STANDARD
TZOFFSETFROM:+0200
TZOFFSETTO:+0100
TZNAME:CET
DTSTART:20271031T010000
END:STANDARD
END:VTIMEZONE
BEGIN:VEVENT
DTSTART;TZID=Europe/Berlin:20260424T160000
DTEND;TZID=Europe/Berlin:20260424T170000
DTSTAMP:20260421T142814
CREATED:20260327T113450Z
LAST-MODIFIED:20260331T144829Z
UID:129827-1777046400-1777050000@www.marie-seebach-stiftung.de
SUMMARY:Masterkonzert – Flöte
DESCRIPTION:Xiaofan Liu\, Hochschule für Musik FRANZ LISZT Weimar\, Klasse Prof. Ulf-Dieter Schaaff\, präsentiert gemeinsam mit Sophio Gigineishvili (Klavier) ein stilistisch vielfältiges Programm von Franz Schubert über Henri Dutilleux und Marais\, bis zu Guiseppe Verdis Oper „La Traviata“.
URL:https://www.marie-seebach-stiftung.de/veranstaltung/masterkonzert-floete/
LOCATION:FORUM SEEBACH\, Tiefurter Allee 8\, Weimar\, 99425\, Deutschland
CATEGORIES:Konzert
END:VEVENT
BEGIN:VEVENT
DTSTART;TZID=Europe/Berlin:20260425T160000
DTEND;TZID=Europe/Berlin:20260425T170000
DTSTAMP:20260421T142814
CREATED:20260327T114110Z
LAST-MODIFIED:20260327T115530Z
UID:129829-1777132800-1777136400@www.marie-seebach-stiftung.de
SUMMARY:„Reisebilder“ – Aus den Hinterlassenschaften des Weimarer Fotografen Harald Wenzel-Orf (1944-2018)
DESCRIPTION:Er ist einst bekannt geworden durch Fotobücher\, Ausstellungen und verschiedene Projekte. Zu den wichtigsten zählen „Der Steinerne Gast“ – Goethe unterwegs in Weimarer Wohnzimmern“/ 1999\, „Mit hundert war ich noch jung“ – Die ältesten Deutschen“/ 2000 und „Der Berg über der Stadt – Zwischen Goethe und Buchenwald“ /2003. Aus seinem umfangreichen Schaffen werden hier Fotografien gezeigt\, die im Rahmen vieler Reisen entstanden sind und die Schönheit anderer Landschaften\, aber auch das vielfältige Leben der Menschen zeigen sollen.
URL:https://www.marie-seebach-stiftung.de/veranstaltung/reisebilder-aus-den-hinterlassenschaften-des-weimarer-fotografen-harald-wenzel-orf-1944-2018/
LOCATION:FORUM SEEBACH\, Tiefurter Allee 8\, Weimar\, 99425\, Deutschland
CATEGORIES:Ausstellung
ATTACH;FMTTYPE=image/jpeg:https://www.marie-seebach-stiftung.de/wp-content/uploads/2026/03/vernissage-beide.jpg
END:VEVENT
BEGIN:VEVENT
DTSTART;TZID=Europe/Berlin:20260429T160000
DTEND;TZID=Europe/Berlin:20260429T170000
DTSTAMP:20260421T142814
CREATED:20260415T102040Z
LAST-MODIFIED:20260415T102040Z
UID:129848-1777478400-1777482000@www.marie-seebach-stiftung.de
SUMMARY:Gitarre im Konzert
DESCRIPTION:Studierende der Hochschule für Musik FRANZ LISZT Weimar mit Werken für Gitarre
URL:https://www.marie-seebach-stiftung.de/veranstaltung/gitarre-im-konzert-4/
LOCATION:FORUM SEEBACH\, Tiefurter Allee 8\, Weimar\, 99425\, Deutschland
CATEGORIES:Konzert
END:VEVENT
BEGIN:VEVENT
DTSTART;TZID=Europe/Berlin:20260430T160000
DTEND;TZID=Europe/Berlin:20260430T170000
DTSTAMP:20260421T142814
CREATED:20260327T115705Z
LAST-MODIFIED:20260327T115705Z
UID:129836-1777564800-1777568400@www.marie-seebach-stiftung.de
SUMMARY:Evangelischer Gesprächskreis
DESCRIPTION:Mit Pfarrer Ulrich Hayner
URL:https://www.marie-seebach-stiftung.de/veranstaltung/evangelischer-gespraechskreis-17/
LOCATION:FORUM SEEBACH\, Tiefurter Allee 8\, Weimar\, 99425\, Deutschland
CATEGORIES:Gottesdienst
END:VEVENT
END:VCALENDAR